BEGIN:VCALENDAR
VERSION:2.0
PRODID:-//ISKA QUÉBEC - Association Sportive Internationale de Kickboxing et Karaté - ECPv6.15.20//NONSGML v1.0//EN
CALSCALE:GREGORIAN
METHOD:PUBLISH
X-WR-CALNAME:ISKA QUÉBEC - Association Sportive Internationale de Kickboxing et Karaté
X-ORIGINAL-URL:https://iska-quebec.com
X-WR-CALDESC:Événements pour ISKA QUÉBEC - Association Sportive Internationale de Kickboxing et Karaté
REFRESH-INTERVAL;VALUE=DURATION:PT1H
X-Robots-Tag:noindex
X-PUBLISHED-TTL:PT1H
BEGIN:VTIMEZONE
TZID:America/Toronto
BEGIN:DAYLIGHT
TZOFFSETFROM:-0500
TZOFFSETTO:-0400
TZNAME:EDT
DTSTART:20240310T070000
END:DAYLIGHT
BEGIN:STANDARD
TZOFFSETFROM:-0400
TZOFFSETTO:-0500
TZNAME:EST
DTSTART:20241103T060000
END:STANDARD
BEGIN:DAYLIGHT
TZOFFSETFROM:-0500
TZOFFSETTO:-0400
TZNAME:EDT
DTSTART:20250309T070000
END:DAYLIGHT
BEGIN:STANDARD
TZOFFSETFROM:-0400
TZOFFSETTO:-0500
TZNAME:EST
DTSTART:20251102T060000
END:STANDARD
BEGIN:DAYLIGHT
TZOFFSETFROM:-0500
TZOFFSETTO:-0400
TZNAME:EDT
DTSTART:20260308T070000
END:DAYLIGHT
BEGIN:STANDARD
TZOFFSETFROM:-0400
TZOFFSETTO:-0500
TZNAME:EST
DTSTART:20261101T060000
END:STANDARD
END:VTIMEZONE
BEGIN:VEVENT
DTSTART;TZID=America/Toronto:20250613T120000
DTEND;TZID=America/Toronto:20250615T160000
DTSTAMP:20260421T143133
CREATED:20240801T013602Z
LAST-MODIFIED:20250525T212545Z
UID:10000029-1749816000-1750003200@iska-quebec.com
SUMMARY:Championnat Provincial de Kick-boxing/K1 Amateur du Québec
DESCRIPTION:Inscription au Championnat Provincial\n\n\n\n\n\nPREMIER CHAMPIONNAT PROVINCIAL \n\n\n\n🏆 Le tout premier Championnat Provincial Amateur ISKA est lancé ! \n\n\n\n📅 Préparez-vous pour une journée de combats intenses\, où débutants et vétérans auront la chance de briller dans un cadre professionnel. C’est l’occasion idéale pour vos athlètes de démontrer leur talent et de faire leur marque ! \n\n\n\n⚠️ CHANGEMENT IMPORTANT À NOTER \n\n\n\nPour cette première édition\, nous concentrons toutes les énergies sur le ring sport : \n\n\n\n❌ Suppression de la zone tatami❌ Annulation des divisions continuous sparring \n\n\n\n✅ Combats en ring seulement dans les disciplines suivantes : \n\n\n\n\nKickboxing traditionnel\n\n\n\nLow Kick\n\n\n\nK-1 Kickboxing\n\n\n\n\n📝 Procédure d’inscription \n\n\n\n\nInscription des athlètes via la plateforme [Smoothcom]\n\nLe système attribue automatiquement la bonne catégorie de poids selon les données fournies.\n\n\n\n\n\nValidation des adhésions sur iska-quebec.com\n\nChaque athlète doit être membre en règle\n\n\n\nVotre école et votre entraîneur doivent également être enregistrés auprès de l’association\n\n\n\n\n\n\n🎯 Faites briller vos athlètes sur le ring ! \n\n\n\n\n\n\n\n\n\n\n\n\n\nInscription au Championnat Provincial
URL:https://iska-quebec.com/event/championnat-provincial/
LOCATION:Centre Agnico Eagle\, 810\, 6e Avenue\, Val d'Or\, Québec\, J9P 1B4\, Canada
CATEGORIES:Amateur,Championnat,K1,Karaté,Kickboxing,Low kick,Savate
ATTACH;FMTTYPE=image/jpeg:https://iska-quebec.com/wp-content/uploads/2025/05/championnat2025.jpg
ORGANIZER;CN="Albertho Merc%C3%A9dat":MAILTO:info@karate-am.com
END:VEVENT
BEGIN:VEVENT
DTSTART;TZID=America/Toronto:20250621T080000
DTEND;TZID=America/Toronto:20250622T170000
DTSTAMP:20260421T143133
CREATED:20250410T195655Z
LAST-MODIFIED:20250725T151858Z
UID:10000045-1750492800-1750611600@iska-quebec.com
SUMMARY:COURS POUR OFFICIELS MMA
DESCRIPTION:Avec l’entrée en vigueur de la nouvelle législation sur les sports de combat en Ontario\, voici l’occasion de mettre tous les officiels de MMA de l’Ontario au courant. \n\n\n\nLe sergent-chef de MMA\, Todd Anderson\, nous enseignera et nous informera sur les nouvelles règles unifiées de MMA. \n\n\n\nTodd Anderson est un officiel et entraîneur de MMA très respecté auprès de l’Association des commissions de boxe (ABC) et de l’Association internationale de karaté sportif (ISKA). Fort de 15 ans d’expérience en MMA professionnel au plus haut niveau\, notamment à l’UFC\, au Bellator et en tant que ceinture noire de jiu-jitsu brésilien\, Todd apporte une expertise technique de premier plan à son arbitrage et à son entraînement. Outre son travail en cage\, Todd a joué un rôle clé dans la surveillance réglementaire en tant qu’ancien directeur du MMA pour la Commission athlétique de l’État de New York (NYSAC) et membre de l’équipe d’évaluation des compétences des combattants de la Commission athlétique de l’Ontario (OAC). Son dévouement pour les sports de combat va au-delà de l’arbitrage ; il s’engage à assurer la sécurité des athlètes et à maintenir les normes d’intégrité les plus élevées dans ce sport.
URL:https://iska-quebec.com/event/mma-officials-course/
LOCATION:BC
CATEGORIES:Séminaire
ATTACH;FMTTYPE=image/jpeg:https://iska-quebec.com/wp-content/uploads/2025/04/489877232_10171244669545107_3391248849996190526_n.jpg
END:VEVENT
BEGIN:VEVENT
DTSTART;TZID=America/Toronto:20250621T190000
DTEND;TZID=America/Toronto:20250621T230000
DTSTAMP:20260421T143133
CREATED:20250403T194900Z
LAST-MODIFIED:20250508T164330Z
UID:10000039-1750532400-1750546800@iska-quebec.com
SUMMARY:ICEMAN KICKBOXING
DESCRIPTION:ICEMAN KICKBOXING – Un événement à ne pas manquer ! \n\n\n\nVivez l’intensité et l’adrénaline du Iceman Kickboxing\, où les meilleurs combattants montent sur le ring pour démontrer leur talent\, leur force et leur détermination. N’attendez plus ! Réservez vos billets dès maintenant pour une soirée électrisante et des combats palpitants ! \n\n\n\n Date et heure Samedi 21 juin 2025 à 19 h \n\n\n\n Lieu : Centre communautaire Père-Arthur-Guertin \n\n\n\n Billets : Disponibles dès maintenant ! \n\n\n\nPour plus de détails\, consultez l’affiche officielle. \n\n\n\n–
URL:https://iska-quebec.com/event/iceman-kickboxing-3/
LOCATION:Centre Communautaire Père Arthur Guertin\, 16 rue Bériault\, Gatineau\, Québec\, J8X 1A3\, Canada
ATTACH;FMTTYPE=image/jpeg:https://iska-quebec.com/wp-content/uploads/2025/04/496124600_1101029402044986_352548240268780050_n.jpg
ORGANIZER;CN="Jean-Yves Theriault":MAILTO:jytchamp@gmail.com
END:VEVENT
END:VCALENDAR