BEGIN:VCALENDAR
VERSION:2.0
PRODID:-//ISKA QUÉBEC - Association Sportive Internationale de Kickboxing et Karaté - ECPv6.15.20//NONSGML v1.0//EN
CALSCALE:GREGORIAN
METHOD:PUBLISH
X-ORIGINAL-URL:https://iska-quebec.com
X-WR-CALDESC:Événements pour ISKA QUÉBEC - Association Sportive Internationale de Kickboxing et Karaté
REFRESH-INTERVAL;VALUE=DURATION:PT1H
X-Robots-Tag:noindex
X-PUBLISHED-TTL:PT1H
BEGIN:VTIMEZONE
TZID:America/Toronto
BEGIN:DAYLIGHT
TZOFFSETFROM:-0500
TZOFFSETTO:-0400
TZNAME:EDT
DTSTART:20220313T070000
END:DAYLIGHT
BEGIN:STANDARD
TZOFFSETFROM:-0400
TZOFFSETTO:-0500
TZNAME:EST
DTSTART:20221106T060000
END:STANDARD
BEGIN:DAYLIGHT
TZOFFSETFROM:-0500
TZOFFSETTO:-0400
TZNAME:EDT
DTSTART:20230312T070000
END:DAYLIGHT
BEGIN:STANDARD
TZOFFSETFROM:-0400
TZOFFSETTO:-0500
TZNAME:EST
DTSTART:20231105T060000
END:STANDARD
BEGIN:DAYLIGHT
TZOFFSETFROM:-0500
TZOFFSETTO:-0400
TZNAME:EDT
DTSTART:20240310T070000
END:DAYLIGHT
BEGIN:STANDARD
TZOFFSETFROM:-0400
TZOFFSETTO:-0500
TZNAME:EST
DTSTART:20241103T060000
END:STANDARD
END:VTIMEZONE
BEGIN:VEVENT
DTSTART;TZID=America/Toronto:20230924T100000
DTEND;TZID=America/Toronto:20230924T120000
DTSTAMP:20260421T020909
CREATED:20230923T003048Z
LAST-MODIFIED:20230923T003049Z
UID:10000003-1695549600-1695556800@iska-quebec.com
SUMMARY:Striking Self Defense
DESCRIPTION:
URL:https://iska-quebec.com/event/striking-self-defense/
LOCATION:DojoFit\, 2890 rue Allard\, Montréal\, Québec\, H4E2M4\, Canada
CATEGORIES:Kickboxing,Séminaire
ATTACH;FMTTYPE=image/jpeg:https://iska-quebec.com/wp-content/uploads/2023/09/379941159_704679025039111_2138610996111496510_n.jpg
END:VEVENT
BEGIN:VEVENT
DTSTART;TZID=America/Toronto:20230910T150000
DTEND;TZID=America/Toronto:20230910T190000
DTSTAMP:20260421T020909
CREATED:20230925T022508Z
LAST-MODIFIED:20230925T023358Z
UID:10000005-1694358000-1694372400@iska-quebec.com
SUMMARY:Iceman Kickboxing
DESCRIPTION:
URL:https://iska-quebec.com/event/iceman-kickboxing/
LOCATION:Centre Communautaire Père Arthur Guertin\, 16 rue Bériault\, Gatineau\, Québec\, J8X 1A3\, Canada
CATEGORIES:Amateur,Kickboxing,Low kick
ATTACH;FMTTYPE=image/jpeg:https://iska-quebec.com/wp-content/uploads/2023/09/iceman.jpg
ORGANIZER;CN="Jean-Yves Theriault":MAILTO:jytchamp@gmail.com
END:VEVENT
BEGIN:VEVENT
DTSTART;TZID=America/Toronto:20230618T140000
DTEND;TZID=America/Toronto:20230618T170000
DTSTAMP:20260421T020909
CREATED:20230925T023251Z
LAST-MODIFIED:20230925T023606Z
UID:10000006-1687096800-1687107600@iska-quebec.com
SUMMARY:Gala kickboxing fête des pères
DESCRIPTION:
URL:https://iska-quebec.com/event/gala-kickboxing-fete-des-peres/
LOCATION:La p’tite grenouille St-Constant\, 8 rue St-Pierre\, Saint-Constant\, Québec\, j%A 2E1\, Canada
CATEGORIES:Amateur,Boxe,Kickboxing,Low kick
ATTACH;FMTTYPE=image/jpeg:https://iska-quebec.com/wp-content/uploads/2023/09/kickfather.jpg
ORGANIZER;CN="Victor Th%C3%A9riault":MAILTO:pvtinc@videotron.ca
END:VEVENT
END:VCALENDAR