BEGIN:VCALENDAR
VERSION:2.0
PRODID:-//ISKA QUÉBEC - Association Sportive Internationale de Kickboxing et Karaté - ECPv6.15.20//NONSGML v1.0//EN
CALSCALE:GREGORIAN
METHOD:PUBLISH
X-ORIGINAL-URL:https://iska-quebec.com
X-WR-CALDESC:Événements pour ISKA QUÉBEC - Association Sportive Internationale de Kickboxing et Karaté
REFRESH-INTERVAL;VALUE=DURATION:PT1H
X-Robots-Tag:noindex
X-PUBLISHED-TTL:PT1H
BEGIN:VTIMEZONE
TZID:America/Toronto
BEGIN:DAYLIGHT
TZOFFSETFROM:-0500
TZOFFSETTO:-0400
TZNAME:EDT
DTSTART:20250309T070000
END:DAYLIGHT
BEGIN:STANDARD
TZOFFSETFROM:-0400
TZOFFSETTO:-0500
TZNAME:EST
DTSTART:20251102T060000
END:STANDARD
BEGIN:DAYLIGHT
TZOFFSETFROM:-0500
TZOFFSETTO:-0400
TZNAME:EDT
DTSTART:20260308T070000
END:DAYLIGHT
BEGIN:STANDARD
TZOFFSETFROM:-0400
TZOFFSETTO:-0500
TZNAME:EST
DTSTART:20261101T060000
END:STANDARD
BEGIN:DAYLIGHT
TZOFFSETFROM:-0500
TZOFFSETTO:-0400
TZNAME:EDT
DTSTART:20270314T070000
END:DAYLIGHT
BEGIN:STANDARD
TZOFFSETFROM:-0400
TZOFFSETTO:-0500
TZNAME:EST
DTSTART:20271107T060000
END:STANDARD
END:VTIMEZONE
BEGIN:VEVENT
DTSTART;TZID=America/Toronto:20260221T160000
DTEND;TZID=America/Toronto:20260221T200000
DTSTAMP:20260420T223459
CREATED:20260119T224600Z
LAST-MODIFIED:20260203T152402Z
UID:10000061-1771689600-1771704000@iska-quebec.com
SUMMARY:PROCHAINE GÉNÉRATION D'ÉTOILES MONTANTES K1 KICKBOXING : WINDSOR CONTRE TOUS LES AUTRES
DESCRIPTION:Windsor’s Premier Mixed Martial Arts Academy péesente \n\n\n\nLE CHOC DES TITANS POIDS LOURDS — EN DIRECT DE WINDSOR\n\n\n\nAmateurs de sports de combat\, accrochez-vous ! Ce combat fera partie de la légende. \n\n\n\nDeux poids lourds canadiens de kickboxing\, dépassant les 227 kg à eux deux\, s’affrontent sur le ring pour prouver qui règne en maître dans la catégorie. Avec plus de 20 combats à leur actif\, cet événement principal promet une puissance brute\, une précision chirurgicale et une volonté de fer. \n\n\n\nReprésentant le MTC WINDSOR\, le redoutable Kevin Shkambi\, originaire de Windsor\, affronte l’implacable Tyler Hart\, de l’Académie Armstrong. \n\n\n\n🏆 Championnat canadien amateur de kickboxing ISKA\, catégorie poids lourds \n\n\n\nUn seul remportera la ceinture. \n\n\n\nPlus qu’un simple combat\, c’est un enjeu de légende. \n\n\n\n🔥 Samedi 21 février📍 Centre serbe — Windsor\, Ontario \n\n\n\n🕔 Les portes ouvrent à 17 h \n\n\n\n🎟️ Billets disponibles dès maintenant sur TicketScene ou auprès des athlètes et des gymnases participants \n\n\n\nAttendez-vous à un spectacle non-stop\, une intensité à couper le souffle et un affrontement explosif chez les poids lourds. Quand ces deux-là s’affrontent… l’un d’eux va se retrouver KO.
URL:https://iska-quebec.com/event/rising-stars-kickboxing-next-generation/
LOCATION:Serbian Centre Windsor\, 6770 Tecumseh RD E.\, Windsor\, Ontario\, N8T 1E6\, Canada
CATEGORIES:Amateur,Championnat,K1,Kickboxing
ATTACH;FMTTYPE=image/jpeg:https://iska-quebec.com/wp-content/uploads/2026/01/618916976_18073653497612455_553989001506916493_n.jpg
END:VEVENT
BEGIN:VEVENT
DTSTART;TZID=America/Toronto:20260228T190000
DTEND;TZID=America/Toronto:20260228T230000
DTSTAMP:20260420T223459
CREATED:20250910T031201Z
LAST-MODIFIED:20251231T195354Z
UID:10000057-1772305200-1772319600@iska-quebec.com
SUMMARY:FLC – Fighter League Championship
DESCRIPTION:
URL:https://iska-quebec.com/event/flc-fighter-league-championship-2/
LOCATION:Nordik Fight Club\, 909 boulevard Charest Ouest\, Québec\, Québec\, G1N 2C9\, Canada
CATEGORIES:Amateur,Championnat,Exhibition,K1,Kickboxing,Low kick,MMA
ATTACH;FMTTYPE=image/jpeg:https://iska-quebec.com/wp-content/uploads/2025/09/608705968_1304597481704423_7083788486148139203_n.jpg
END:VEVENT
BEGIN:VEVENT
DTSTART;TZID=America/Toronto:20260320T190000
DTEND;TZID=America/Toronto:20260320T230000
DTSTAMP:20260420T223459
CREATED:20250724T022152Z
LAST-MODIFIED:20260311T050815Z
UID:10000051-1774033200-1774047600@iska-quebec.com
SUMMARY:Gala Bénéfice de Kickboxing – UKF6
DESCRIPTION:GALA BÉNÉFICE DE KICKBOXING – MONT-LAURIER6e édition – le grand retour ! \n\n\n\nLe 20 mars 2026 à 19 h 30\, préparez-vous à une soirée électrisante à l’Espace-Théâtre de Mont-Laurier. \n\n\n\nGala bénéficeCombats spectaculaires et intensité garantie \n\n\n\nPrésenté par Centre du camion Western Star – Freightliner \n\n\n\nPlaces limitées – réservez rapidement\, les billets partent vite !Billets disponibles dès maintenant\, exclusivement en ligne \n\n\n\nTarifs• 60 $ / adulte• 30 $ / moins de 18 ans \n\n\n\nUn événement incontournable à Mont-Laurier
URL:https://iska-quebec.com/event/gala-benefice-de-kickboxing-ukf6/
LOCATION:Espace Théâtre de Mont-Laurier\, 543 Rue du Pont\, Mont-Laurier\, Québec\, J9L 0L4\, Canada
CATEGORIES:Amateur,Exhibition,K1,Kickboxing,Low kick
ATTACH;FMTTYPE=image/jpeg:https://iska-quebec.com/wp-content/uploads/2025/07/633045859_122150841566733268_6802181534953768393_n.jpg
ORGANIZER;CN="Ren%C3%A9 Gratton":MAILTO:urbain007@yahoo.ca
END:VEVENT
BEGIN:VEVENT
DTSTART;TZID=America/Toronto:20260328T100000
DTEND;TZID=America/Toronto:20260329T160000
DTSTAMP:20260420T223459
CREATED:20260409T133447Z
LAST-MODIFIED:20260409T133450Z
UID:10000070-1774692000-1774800000@iska-quebec.com
SUMMARY:Cours de certification officiels ISKA
DESCRIPTION:SKA Canada est fière de présenter ses premiers cours officiels de certification ISKA\, animés directement par le président d’ISKA Global\, Corey Schaefer. Profitez de cette occasion unique de vous former et d’apprendre de l’un des leaders les plus respectés des sports de combat. Avec 35 ans d’expérience auprès d’organisations telles que STRIKEFORCE\, K-1\, GLORY\, BELLATOR et CHUCK NORRIS’S WORLD COMBAT\, Corey Schaefer partagera son expertise. Contenu du cours : • Kickboxing selon les règles unifiées ABC/ISKA • Kick Light • Normes internationales d’arbitrage et de réglementation. C’est l’occasion idéale pour développer vos connaissances\, vos compétences et votre leadership dans les sports de combat.
URL:https://iska-quebec.com/event/cours-de-certification-officiels-iska/
LOCATION:Golden Glory Martial Arts Academy\, #2-2336 King George Blvd\, Surrey\, BC\, V4A 5A5\, Canada
ATTACH;FMTTYPE=image/jpeg:https://iska-quebec.com/wp-content/uploads/2026/04/bffcb30394a17872bea8ea99753db1f7.jpeg
END:VEVENT
BEGIN:VEVENT
DTSTART;TZID=America/Toronto:20260424T080000
DTEND;TZID=America/Toronto:20260424T170000
DTSTAMP:20260420T223459
CREATED:20260321T162237Z
LAST-MODIFIED:20260321T162603Z
UID:10000069-1777017600-1777050000@iska-quebec.com
SUMMARY:La Coupe Canada 2026
DESCRIPTION:La Coupe Canada 2026 aura bien lieu\, et l’événement de cette année promet d’être exceptionnel. \n\n\n\nBoxe. Kickboxing. MMA. Lutte. \n\n\n\nDifférents styles. Un seul ring. Une soirée inoubliable. \n\n\n\nCette année\, la barre est placée très haut avec un titre de champion nord-américain ISKA et un titre canadien en jeu. \n\n\n\n24 avril 2026Salle de bal Palais Empress – Surrey (C.-B.)Ouverture des portes à 18 h 15 \n\n\n\nSi vous venez assister aux combats\, attendez-vous à une ambiance survoltée\, des entrées spectaculaires et une salle comble. \n\n\n\nFaisons de la Coupe Canada 2026 la plus grande de toutes ! \n\n\n\nSurrey (C.-B.) \n\n\n\nBillets : \n\n\n\nhttp://www.knockoutevents.caa
URL:https://iska-quebec.com/event/la-coupe-canada-2026/
LOCATION:BC
CATEGORIES:Boxe,Gatka,Kickboxing,MMA
ATTACH;FMTTYPE=image/jpeg:https://iska-quebec.com/wp-content/uploads/2026/03/canadacup.jpg
END:VEVENT
BEGIN:VEVENT
DTSTART;TZID=America/Toronto:20260425T100000
DTEND;TZID=America/Toronto:20260425T180000
DTSTAMP:20260420T223459
CREATED:20260302T030005Z
LAST-MODIFIED:20260416T034348Z
UID:10000065-1777111200-1777140000@iska-quebec.com
SUMMARY:21e Championnat des Golden Glory Warriors
DESCRIPTION:Un jalon important se profile : le 21e Championnat Golden Glory Warriors sera le premier événement à recevoir la sanction officielle de l’ISKA en Colombie-Britannique. L’événement proposera des divisions semi-contact (niveaux E et D\, tous âges) ainsi qu’une division Masters Kick Light (niveau C\, 14 ans et plus). \n\n\n\nLes compétiteurs sont invités à démontrer leur savoir‑faire sur le tatami lors de cette édition historique tenue à la White Rock Christian Academy. \n\n\n\n\n\n\n\n🕒 Horaire de l’événement\n\n\n\n\nOuverture des portes : 9 h\n\n\n\nDébut de la compétition : 10 h\n\n\n\nÉpreuves Semi‑contact — Niveaux E et D\, tous âges\n\n\n\nDivision Masters – Kick Light — Niveau C\, 14 ans et plus\n\n\n\nRemise des prix à la fin des combats\n\n\n\n\n\n\n\n\n📋 Conditions de participation\n\n\n\n\nAdhésion valide à ISKA Canada\n\n\n\nCertificat médical en règle\n\n\n\nÉquipement de protection complet et conforme\n\n\n\n\nCatégories admissibles\n\n\n\n\nSemi‑contact : niveaux E et D\, ouvert à tous les âges\n\n\n\nDivision Masters – Kick Light : niveau C\, réservé aux 14 ans et plus
URL:https://iska-quebec.com/event/21e-championnat-des-golden-glory-warriors/
LOCATION:Golden Glory Martial Arts Academy\, #2-2336 King George Blvd\, Surrey\, BC\, V4A 5A5\, Canada
CATEGORIES:Amateur,Championnat,K1,Karaté,Kickboxing,MMA
ATTACH;FMTTYPE=image/jpeg:https://iska-quebec.com/wp-content/uploads/2026/04/641651808_122115350709203566_3420091884125672783_n.jpg
ORGANIZER;CN="ISKA Canada":MAILTO:mostafasabeti@yahoo.com
END:VEVENT
BEGIN:VEVENT
DTSTART;TZID=America/Toronto:20260516T080000
DTEND;TZID=America/Toronto:20260517T170000
DTSTAMP:20260420T223459
CREATED:20251119T011611Z
LAST-MODIFIED:20260415T151435Z
UID:10000059-1778918400-1779037200@iska-quebec.com
SUMMARY:Grand Prix Gladiateurs du Nord Provincial
DESCRIPTION:Le Grand Prix Gladiateur du Nord à Val-d’OrChampionnat de K-1 & Kick-Boxing \n\n\n\nPrêt à vivre des combats incroyables ? Le Grand Prix Gladiateur du Nord est l’endroit où des jeunes guerriers courageux se défient pour la victoire\, la gloire et les ceintures tant convoitées ! \n\n\n\nAu programme : des duels spectaculaires en K-1 et Kick-Boxing\, où force\, technique et courage se rencontrent. Chaque combat est intense\, et l’énergie de la foule rend l’expérience encore plus excitante ! \n\n\n\nCe n’est pas juste un tournoi : c’est une aventure où le courage\, la discipline et le respect sont rois. \n\n\n\nPrépare-toi pour un week-end plein d’action et de combats mémorables…Le Nord a hâte de voir ses gladiateurs briller !
URL:https://iska-quebec.com/event/le-grand-prix-gladiateur-du-nord-championnat-de-kick-boxing-et-k-1/
LOCATION:Aréna Kiwanis\, 810 6e avenue\, Val-d'Or\, QC\, J9P1B4\, Canada
CATEGORIES:Amateur,Championnat,K1,Kickboxing,Low kick
ATTACH;FMTTYPE=image/jpeg:https://iska-quebec.com/wp-content/uploads/2026/04/BCO.jpg
ORGANIZER;CN="Ralph D. Jean-Pierre":MAILTO:Impactkb.bjj@gmail.com
END:VEVENT
BEGIN:VEVENT
DTSTART;TZID=America/Toronto:20260516T190000
DTEND;TZID=America/Toronto:20260516T230000
DTSTAMP:20260420T223459
CREATED:20260306T212842Z
LAST-MODIFIED:20260403T183627Z
UID:10000067-1778958000-1778972400@iska-quebec.com
SUMMARY:Gladiateurs du Nord V
DESCRIPTION:L’événement Kick‑Boxing & K1 qui fera vibrer Val‑d’Or\n\n\n\nLe 16 mai 2026\, Val‑d’Or deviendra le centre de gravité des sports de combat. Une soirée où l’adrénaline\, la puissance et la précision se rencontrent pour offrir un spectacle d’une intensité rare. Athlètes déterminés\, ambiance électrique\, public en feu : tout est réuni pour vivre une expérience qui dépasse le simple combat. C’est un rendez‑vous où chaque frappe raconte une histoire\, où chaque round peut basculer le destin d’un combattant. \n\n\n\nUne soirée d’affrontements spectaculaires\n\n\n\nLes meilleurs talents de Kick‑Boxing et de K1 monteront sur le ring pour livrer des duels explosifs. Attendez‑vous à :• Des combats serrés\, où la technique et la stratégie s’affrontent coup pour coup.• Des moments de pure intensité\, capables de faire lever toute la salle d’un seul mouvement.• Une atmosphère unique\, portée par l’énergie du public et la passion des athlètes.• Un show complet\, pensé pour offrir une soirée mémorable du début à la fin.Chaque combat est une promesse : celle de vous faire vibrer\, surprendre\, et parfois même retenir votre souffle. \n\n\n\nLe compte à rebours est lancé\n\n\n\nL’heure approche. Les combattants peaufinent leurs stratégies\, les équipes s’affairent\, la scène se prépare… et les billets commencent déjà à partir rapidement. Pour les amateurs de sensations fortes\, pour les passionnés de sports de combat\, pour ceux qui veulent vivre un moment intense et authentique : c’est l’événement à ne pas manquer. \n\n\n\nLes billets sont officiellement en vente.\n\n\n\nAssurez-vous votre place avant que l’arène n’affiche complet. \n\n\n\nSoyez aux premières loges de l’impact\n\n\n\nLe 16 mai\, Val‑d’Or ne sera pas seulement une ville : ce sera une arène. Une arène où la passion\, la force et le courage s’exprimeront sans retenue. Une arène où chaque spectateur devient partie prenante du spectacle.Réservez maintenant. Vivez l’intensité. Ressentez l’impact
URL:https://iska-quebec.com/event/gladiateurs-du-nord-v/
LOCATION:Aréna Kiwanis\, 810 6e avenue\, Val-d'Or\, QC\, J9P1B4\, Canada
CATEGORIES:Amateur,Championnat,K1,Kickboxing,Muay thaï
ATTACH;FMTTYPE=image/jpeg:https://iska-quebec.com/wp-content/uploads/2026/04/templatevmattsonv4.jpg
ORGANIZER;CN="Ralph D. Jean-Pierre":MAILTO:Impactkb.bjj@gmail.com
END:VEVENT
BEGIN:VEVENT
DTSTART;TZID=America/Toronto:20260606T190000
DTEND;TZID=America/Toronto:20260606T230000
DTSTAMP:20260420T223459
CREATED:20260126T145249Z
LAST-MODIFIED:20260409T144329Z
UID:10000062-1780772400-1780786800@iska-quebec.com
SUMMARY:FLC – Fighter League Championship
DESCRIPTION:
URL:https://iska-quebec.com/event/flc-fighter-league-championship-3/
LOCATION:Nordik Fight Club\, 909 boulevard Charest Ouest\, Québec\, Québec\, G1N 2C9\, Canada
CATEGORIES:Amateur,Championnat,Exhibition,K1,Kickboxing,Low kick,MMA
ATTACH;FMTTYPE=image/jpeg:https://iska-quebec.com/wp-content/uploads/2026/01/656864508_17944564227153066_207628100187718120_n.jpg
END:VEVENT
BEGIN:VEVENT
DTSTART;TZID=America/Toronto:20260613T190000
DTEND;TZID=America/Toronto:20260613T230000
DTSTAMP:20260420T223459
CREATED:20260212T232532Z
LAST-MODIFIED:20260409T235106Z
UID:10000064-1781377200-1781391600@iska-quebec.com
SUMMARY:NFL - Nova Fight League
DESCRIPTION:NFL #25 ÇA ARRIVE \n\n\n\nLe 13 JUIN à 18H30\, prépare-toi pour une soirée de combats explosifsadrénaline\, intensité et spectacle au rendez-vous. \n\n\n\nNova Fight League #25Un événement où les guerriers montent dans l’arène…et où chaque combat compte. \n\n\n\nViens supporter ta famille\, ton gym\, ta relève. \n\n\n\nBillets disponibles dès maintenant au Nova GymPrévente : 35$ jusqu’au 30 mai 2026 \n\n\n\nLes places vont partir rapidement.Sois là. Ressens l’ambiance. Vis le combat. \n\n\n\nISKA QUÉBEC ⚜️La référence officielle en sports de combat au Québec
URL:https://iska-quebec.com/event/nfl-nova-fight-league/
LOCATION:Galeries Canardière\, 2485 Bd Sainte-Anne porte 3\, Québec\, QC\, G1J 1Y4\, Canada
CATEGORIES:K1,Kickboxing
ATTACH;FMTTYPE=image/jpeg:https://iska-quebec.com/wp-content/uploads/2026/04/zCzta-kh.jpg
END:VEVENT
BEGIN:VEVENT
DTSTART;TZID=America/Toronto:20260620T190000
DTEND;TZID=America/Toronto:20260620T230000
DTSTAMP:20260420T223459
CREATED:20260311T213846Z
LAST-MODIFIED:20260311T214412Z
UID:10000068-1781982000-1781996400@iska-quebec.com
SUMMARY:Fondation Sacha Vaillancourt
DESCRIPTION:Plus d’informations à venir
URL:https://iska-quebec.com/event/fondation-sacha-vaillancourt/
LOCATION:BC
CATEGORIES:Amateur,K1
ATTACH;FMTTYPE=image/jpeg:https://iska-quebec.com/wp-content/uploads/2026/03/fsvd.jpg
END:VEVENT
BEGIN:VEVENT
DTSTART;TZID=America/Toronto:20260627T190000
DTEND;TZID=America/Toronto:20260627T230000
DTSTAMP:20260420T223459
CREATED:20240822T233043Z
LAST-MODIFIED:20260321T193946Z
UID:10000031-1782586800-1782601200@iska-quebec.com
SUMMARY:Gladiator Kickboxing
DESCRIPTION:KEN TÕSHI BUDO présente un prestigieux Gala de Kickboxing \n\n\n\n📅 Samedi 27 juin Une soirée où l’honneur\, la discipline et l’intensité du combat seront à l’avant‑plan. Sanction officielle : ISKA Québec. \n\n\n\n📍 Centre Communautaire Père Arthur Guertin Gatineau\, Québec \n\n\n\nContact officiel Junior Leduc 819‑712‑2070 renshijr55@hotmail.com
URL:https://iska-quebec.com/event/gladiator-kickboxing/
LOCATION:Centre Communautaire Père Arthur Guertin\, 16 rue Bériault\, Gatineau\, Québec\, J8X 1A3\, Canada
CATEGORIES:Amateur,Kickboxing
ATTACH;FMTTYPE=image/jpeg:https://iska-quebec.com/wp-content/uploads/2024/08/656631362_27252215307700495_2626317490875942935_n.jpg
ORGANIZER;CN="Junior Leduc":MAILTO:renshijr55@hotmail.com
END:VEVENT
BEGIN:VEVENT
DTSTART;TZID=America/Toronto:20260702T080000
DTEND;TZID=America/Toronto:20260704T170000
DTSTAMP:20260420T223459
CREATED:20250724T021355Z
LAST-MODIFIED:20260321T163426Z
UID:10000053-1782979200-1783184400@iska-quebec.com
SUMMARY:U.S. OPEN ISKA World Martial Arts Championships 2026
DESCRIPTION:Le Championnat du monde d’arts martiaux ISKA US OPEN 2026 sont désormais ouverts aux inscriptions des participants et aux achats de billets pour les spectateurs. L’événement comprend le prestigieux méga-tournoi NASKA 6A\, ainsi que les Championnats du monde ISKA Breaking\, basés sur les qualifications et diffusés dans le monde entier\, et les Championnats du monde d’arts martiaux ISKA Night of Champions. Les champions en titre et les meilleurs prétendants du classement mondial ISKA sont encouragés à s’inscrire tôt.Réputé comme l’événement le plus familial du karaté sportif\, l’OPEN accueille des compétiteurs de tous âges et de tous niveaux\, offrant 1 400 divisions diverses. Aucune affiliation NASKA ou ISKA n’est requise pour participer au tournoi principal 6A. Profitez des prix réduits par division (près d’un tiers de réduction) disponibles jusqu’à la fin de l’année et obtenez les meilleures places réservées pour les diffusions internationales. Ne manquez pas ça\, on se retrouve là-bas ! \n\n\n\n\nhttps://youtu.be/eO3mnC98kWw
URL:https://iska-quebec.com/event/u-s-open-iska-world-martial-arts-championships-2026/
LOCATION:Disney’s Coronado Springs Resort Hotel & Convention Center\, Orlando\, Floride\, USA
CATEGORIES:Amateur,Championnat,Karaté,Kickboxing
ATTACH;FMTTYPE=image/jpeg:https://iska-quebec.com/wp-content/uploads/2025/07/572186836_1289020049936654_4969958966149558043_n.jpg
ORGANIZER;CN="Cory Schafer":MAILTO:schafriska@aol.com
END:VEVENT
BEGIN:VEVENT
DTSTART;TZID=America/Toronto:20261105T080000
DTEND;TZID=America/Toronto:20261108T170000
DTSTAMP:20260420T223459
CREATED:20250809T155450Z
LAST-MODIFIED:20260321T163540Z
UID:10000055-1793865600-1794157200@iska-quebec.com
SUMMARY:Championnats du monde ISKA 2026 (amateur)
DESCRIPTION:
URL:https://iska-quebec.com/event/championnat-du-monde-iska-ama-2026-madrid-espagne/
LOCATION:BC
CATEGORIES:Amateur,Championnat,K1,Karaté,Kickboxing,Low kick,MMA,Muay thaï
ATTACH;FMTTYPE=image/jpeg:https://iska-quebec.com/wp-content/uploads/2026/02/643380002_2014139889151261_253153531460918719_n.jpg
END:VEVENT
BEGIN:VEVENT
DTSTART;TZID=America/Toronto:20261107T190000
DTEND;TZID=America/Toronto:20261107T230000
DTSTAMP:20260420T223459
CREATED:20260126T145406Z
LAST-MODIFIED:20260126T145407Z
UID:10000063-1794078000-1794092400@iska-quebec.com
SUMMARY:FLC – Fighter League Championship
DESCRIPTION:
URL:https://iska-quebec.com/event/flc-fighter-league-championship-4/
LOCATION:Nordik Fight Club\, 909 boulevard Charest Ouest\, Québec\, Québec\, G1N 2C9\, Canada
CATEGORIES:Amateur,Championnat,Exhibition,K1,Kickboxing,Low kick,MMA
ATTACH;FMTTYPE=image/jpeg:https://iska-quebec.com/wp-content/uploads/2025/09/522005865_1168388371992002_8807158880216126319_n.jpg
END:VEVENT
END:VCALENDAR