BEGIN:VCALENDAR
VERSION:2.0
PRODID:-//ISKA QUÉBEC - Association Sportive Internationale de Kickboxing et Karaté - ECPv6.15.20//NONSGML v1.0//EN
CALSCALE:GREGORIAN
METHOD:PUBLISH
X-WR-CALNAME:ISKA QUÉBEC - Association Sportive Internationale de Kickboxing et Karaté
X-ORIGINAL-URL:https://iska-quebec.com
X-WR-CALDESC:Événements pour ISKA QUÉBEC - Association Sportive Internationale de Kickboxing et Karaté
REFRESH-INTERVAL;VALUE=DURATION:PT1H
X-Robots-Tag:noindex
X-PUBLISHED-TTL:PT1H
BEGIN:VTIMEZONE
TZID:America/Toronto
BEGIN:DAYLIGHT
TZOFFSETFROM:-0500
TZOFFSETTO:-0400
TZNAME:EDT
DTSTART:20250309T070000
END:DAYLIGHT
BEGIN:STANDARD
TZOFFSETFROM:-0400
TZOFFSETTO:-0500
TZNAME:EST
DTSTART:20251102T060000
END:STANDARD
BEGIN:DAYLIGHT
TZOFFSETFROM:-0500
TZOFFSETTO:-0400
TZNAME:EDT
DTSTART:20260308T070000
END:DAYLIGHT
BEGIN:STANDARD
TZOFFSETFROM:-0400
TZOFFSETTO:-0500
TZNAME:EST
DTSTART:20261101T060000
END:STANDARD
BEGIN:DAYLIGHT
TZOFFSETFROM:-0500
TZOFFSETTO:-0400
TZNAME:EDT
DTSTART:20270314T070000
END:DAYLIGHT
BEGIN:STANDARD
TZOFFSETFROM:-0400
TZOFFSETTO:-0500
TZNAME:EST
DTSTART:20271107T060000
END:STANDARD
END:VTIMEZONE
BEGIN:VEVENT
DTSTART;TZID=America/Toronto:20260110T090000
DTEND;TZID=America/Toronto:20260111T170000
DTSTAMP:20260420T205525
CREATED:20251221T151057Z
LAST-MODIFIED:20251221T152424Z
UID:10000060-1768035600-1768150800@iska-quebec.com
SUMMARY:Séminaire d'arbitrage et de juge en MMA - ISKA
DESCRIPTION:Cette formation de deux jours\, animée par Todd Anderson\, comprend des cours d’arbitrage et de jugement\, des examens et des certificats. La certification ISKA est reconnue par les commissions athlétiques de l’Ontario et de New York\, ainsi que par plus de 50 pays à travers le monde. \n\n\n\nProfitez de l’expertise de Todd Anderson\, ancien directeur du MMA pour la commission athlétique de l’État de New York et arbitre chevronné ayant officié à de nombreuses reprises au Bellator\, au PFL et à l’UFC\, ainsi que lors d’événements régionaux. \n\n\n\nCette session de deux jours est idéale pour les combattants et les entraîneurs souhaitant approfondir leurs connaissances sur le système de notation et la gestion des combats\, les professionnels en devenir cherchant à améliorer leurs perspectives d’emploi et les amateurs désireux de mieux comprendre les rouages ​​de ce sport. \n\n\n\nAcademix est une académie de MMA de 930 m² située à Fort Erie\, en Ontario\, à seulement 5 minutes du centre-ville de Buffalo\, 30 minutes de St. Catharines\, une heure de Hamilton et une heure et demie de Toronto ou Rochester. \n\n\n\nInscrivez-vous en ligne dès aujourd’hui ! Les places sont limitées et partent vite.
URL:https://iska-quebec.com/event/seminaire-darbitrage-et-de-juge-en-mma-iska/
LOCATION:Academix Academy\, 427 Garrison Road\, Fort Erie\, Ontario\, L2A 1N3\, Canada
CATEGORIES:MMA,Séminaire
ATTACH;FMTTYPE=image/jpeg:https://iska-quebec.com/wp-content/uploads/2025/12/601347652_122106554853156821_7319922940588854137_n.jpg
END:VEVENT
END:VCALENDAR