BEGIN:VCALENDAR
VERSION:2.0
PRODID:-//ISKA QUÉBEC - Association Sportive Internationale de Kickboxing et Karaté - ECPv6.15.20//NONSGML v1.0//EN
CALSCALE:GREGORIAN
METHOD:PUBLISH
X-ORIGINAL-URL:https://iska-quebec.com
X-WR-CALDESC:Événements pour ISKA QUÉBEC - Association Sportive Internationale de Kickboxing et Karaté
REFRESH-INTERVAL;VALUE=DURATION:PT1H
X-Robots-Tag:noindex
X-PUBLISHED-TTL:PT1H
BEGIN:VTIMEZONE
TZID:America/Toronto
BEGIN:DAYLIGHT
TZOFFSETFROM:-0500
TZOFFSETTO:-0400
TZNAME:EDT
DTSTART:20230312T070000
END:DAYLIGHT
BEGIN:STANDARD
TZOFFSETFROM:-0400
TZOFFSETTO:-0500
TZNAME:EST
DTSTART:20231105T060000
END:STANDARD
BEGIN:DAYLIGHT
TZOFFSETFROM:-0500
TZOFFSETTO:-0400
TZNAME:EDT
DTSTART:20240310T070000
END:DAYLIGHT
BEGIN:STANDARD
TZOFFSETFROM:-0400
TZOFFSETTO:-0500
TZNAME:EST
DTSTART:20241103T060000
END:STANDARD
BEGIN:DAYLIGHT
TZOFFSETFROM:-0500
TZOFFSETTO:-0400
TZNAME:EDT
DTSTART:20250309T070000
END:DAYLIGHT
BEGIN:STANDARD
TZOFFSETFROM:-0400
TZOFFSETTO:-0500
TZNAME:EST
DTSTART:20251102T060000
END:STANDARD
BEGIN:DAYLIGHT
TZOFFSETFROM:-0500
TZOFFSETTO:-0400
TZNAME:EDT
DTSTART:20260308T070000
END:DAYLIGHT
BEGIN:STANDARD
TZOFFSETFROM:-0400
TZOFFSETTO:-0500
TZNAME:EST
DTSTART:20261101T060000
END:STANDARD
END:VTIMEZONE
BEGIN:VEVENT
DTSTART;TZID=America/Toronto:20250717T080000
DTEND;TZID=America/Toronto:20250719T170000
DTSTAMP:20260420T125246
CREATED:20250102T025417Z
LAST-MODIFIED:20250305T213058Z
UID:10000032-1752739200-1752944400@iska-quebec.com
SUMMARY:U.S. OPEN ISKA World Martial Arts Championships
DESCRIPTION:Le Championnat du monde d’arts martiaux ISKA US OPEN 2025 sont désormais ouverts aux inscriptions des participants et aux achats de billets pour les spectateurs. L’événement comprend le prestigieux méga-tournoi NASKA 6A\, ainsi que les Championnats du monde ISKA Breaking\, basés sur les qualifications et diffusés dans le monde entier\, et les Championnats du monde d’arts martiaux ISKA Night of Champions. Les champions en titre et les meilleurs prétendants du classement mondial ISKA sont encouragés à s’inscrire tôt.Réputé comme l’événement le plus familial du karaté sportif\, l’OPEN accueille des compétiteurs de tous âges et de tous niveaux\, offrant 1 400 divisions diverses. Aucune affiliation NASKA ou ISKA n’est requise pour participer au tournoi principal 6A. Profitez des prix réduits par division (près d’un tiers de réduction) disponibles jusqu’à la fin de l’année et obtenez les meilleures places réservées pour les diffusions internationales. Ne manquez pas ça\, on se retrouve là-bas ! \n\n\n\n\nhttps://youtu.be/eO3mnC98kWw
URL:https://iska-quebec.com/event/u-s-open/
LOCATION:Disney’s Coronado Springs Resort Hotel & Convention Center\, Orlando\, Floride\, USA
CATEGORIES:Amateur,Championnat,Karaté
ATTACH;FMTTYPE=image/jpeg:https://iska-quebec.com/wp-content/uploads/2025/01/usonightshow-1261-aspect-ratio-1024-512-768x384-1.jpg
ORGANIZER;CN="Cory Schafer":MAILTO:schafriska@aol.com
END:VEVENT
BEGIN:VEVENT
DTSTART;TZID=America/Toronto:20250613T120000
DTEND;TZID=America/Toronto:20250615T160000
DTSTAMP:20260420T125246
CREATED:20240801T013602Z
LAST-MODIFIED:20250525T212545Z
UID:10000029-1749816000-1750003200@iska-quebec.com
SUMMARY:Championnat Provincial de Kick-boxing/K1 Amateur du Québec
DESCRIPTION:Inscription au Championnat Provincial\n\n\n\n\n\nPREMIER CHAMPIONNAT PROVINCIAL \n\n\n\n🏆 Le tout premier Championnat Provincial Amateur ISKA est lancé ! \n\n\n\n📅 Préparez-vous pour une journée de combats intenses\, où débutants et vétérans auront la chance de briller dans un cadre professionnel. C’est l’occasion idéale pour vos athlètes de démontrer leur talent et de faire leur marque ! \n\n\n\n⚠️ CHANGEMENT IMPORTANT À NOTER \n\n\n\nPour cette première édition\, nous concentrons toutes les énergies sur le ring sport : \n\n\n\n❌ Suppression de la zone tatami❌ Annulation des divisions continuous sparring \n\n\n\n✅ Combats en ring seulement dans les disciplines suivantes : \n\n\n\n\nKickboxing traditionnel\n\n\n\nLow Kick\n\n\n\nK-1 Kickboxing\n\n\n\n\n📝 Procédure d’inscription \n\n\n\n\nInscription des athlètes via la plateforme [Smoothcom]\n\nLe système attribue automatiquement la bonne catégorie de poids selon les données fournies.\n\n\n\n\n\nValidation des adhésions sur iska-quebec.com\n\nChaque athlète doit être membre en règle\n\n\n\nVotre école et votre entraîneur doivent également être enregistrés auprès de l’association\n\n\n\n\n\n\n🎯 Faites briller vos athlètes sur le ring ! \n\n\n\n\n\n\n\n\n\n\n\n\n\nInscription au Championnat Provincial
URL:https://iska-quebec.com/event/championnat-provincial/
LOCATION:Centre Agnico Eagle\, 810\, 6e Avenue\, Val d'Or\, Québec\, J9P 1B4\, Canada
CATEGORIES:Amateur,Championnat,K1,Karaté,Kickboxing,Low kick,Savate
ATTACH;FMTTYPE=image/jpeg:https://iska-quebec.com/wp-content/uploads/2025/05/championnat2025.jpg
ORGANIZER;CN="Albertho Merc%C3%A9dat":MAILTO:info@karate-am.com
END:VEVENT
BEGIN:VEVENT
DTSTART;TZID=America/Toronto:20250215T190000
DTEND;TZID=America/Toronto:20250215T230000
DTSTAMP:20260420T125246
CREATED:20241216T180035Z
LAST-MODIFIED:20250216T134919Z
UID:10000040-1739646000-1739660400@iska-quebec.com
SUMMARY:Balistik #3 – VALENTINE'S VENDETTA
DESCRIPTION:Une Soirée de Combat à Ne Pas Manquer ! \n\n\n\n📅 Date : Samedi 15 février 2025📍 Lieu : DekAnjou – 9001 Boulevard Parkway\, Anjou\, Montréal \n\n\n\nVous cherchez une façon originale de célébrer la Saint-Valentin ? Balistik #3 Kickboxing : Valentine’s Vendetta promet une soirée électrisante où l’adrénaline et l’action seront au rendez-vous ! \n\n\n\nQue vous soyez amateur de sports de combat ou simplement en quête d’une expérience unique\, cet événement vous plongera au cœur de duels intenses mettant en vedette certains des meilleurs combattants de la scène kickboxing. \n\n\n\n🔥 Un spectacle à couper le souffle🏆 Des affrontements de haut niveau🎟 Une ambiance survoltée pour une soirée inoubliable \n\n\n\nNe manquez pas cette occasion de vivre une Saint-Valentin pas comme les autres ! Réservez dès maintenant vos places et préparez-vous à une dose de pur spectacle. \n\n\n\n🔗 Billetterie et infos : www.balistiklimbs.com
URL:https://iska-quebec.com/event/balistik-3/
LOCATION:Dek Anjou\, 9001 Bd Parkway\, Anjou\, Québec\, H1J 1N4\, Canada
CATEGORIES:Amateur,K1,Karaté,Kickboxing,Low kick
ATTACH;FMTTYPE=image/jpeg:https://iska-quebec.com/wp-content/uploads/2024/12/POSTER.jpg
ORGANIZER;CN="Eric Alphonso":MAILTO:balistiklimbs@gmail.com
END:VEVENT
BEGIN:VEVENT
DTSTART;TZID=America/Toronto:20240703T080000
DTEND;TZID=America/Toronto:20240706T170000
DTSTAMP:20260420T125246
CREATED:20231021T125159Z
LAST-MODIFIED:20231202T120533Z
UID:10000010-1719993600-1720285200@iska-quebec.com
SUMMARY:U.S. Open ISKA World Martial Arts Championships
DESCRIPTION: 
URL:https://iska-quebec.com/event/us-open-iska-world-martial-arts-championships/
LOCATION:Disney’s Coronado Springs Resort Hotel & Convention Center\, Orlando\, Floride\, USA
CATEGORIES:Amateur,Championnat,Karaté
ATTACH;FMTTYPE=image/jpeg:https://iska-quebec.com/wp-content/uploads/2023/10/usopen.jpg
END:VEVENT
BEGIN:VEVENT
DTSTART;TZID=America/Toronto:20240504T190000
DTEND;TZID=America/Toronto:20240504T230000
DTSTAMP:20260420T125246
CREATED:20231210T163231Z
LAST-MODIFIED:20240116T040139Z
UID:10000013-1714849200-1714863600@iska-quebec.com
SUMMARY:Gladiateurs du Nord 2
DESCRIPTION:
URL:https://iska-quebec.com/event/gladiateurs-du-nord-2/
LOCATION:BC
CATEGORIES:Amateur,Boxe,Championnat,Exhibition,K1,Karaté,Kickboxing,Low kick
ATTACH;FMTTYPE=image/jpeg:https://iska-quebec.com/wp-content/uploads/2023/12/414499288_847841684019203_3653760870514363150_n.jpg
ORGANIZER;CN="Ralph D. Jean-Pierre":MAILTO:Impactkb.bjj@gmail.com
END:VEVENT
BEGIN:VEVENT
DTSTART;VALUE=DATE:20240503
DTEND;VALUE=DATE:20240506
DTSTAMP:20260420T125246
CREATED:20240405T001721Z
LAST-MODIFIED:20240405T001721Z
UID:10000019-1714694400-1714953599@iska-quebec.com
SUMMARY:ISKA Nationals - Delaware
DESCRIPTION:
URL:https://iska-quebec.com/event/iska-nationals-delaware/
LOCATION:BC
CATEGORIES:Amateur,Championnat,K1,Karaté,Kickboxing,Low kick,Muay thaï
ATTACH;FMTTYPE=image/jpeg:https://iska-quebec.com/wp-content/uploads/2024/04/ISAK_Nationals_team_usa_qualifier.jpeg
END:VEVENT
BEGIN:VEVENT
DTSTART;TZID=America/Toronto:20240315T190000
DTEND;TZID=America/Toronto:20240315T230000
DTSTAMP:20260420T125246
CREATED:20231210T162157Z
LAST-MODIFIED:20240122T143429Z
UID:10000012-1710529200-1710543600@iska-quebec.com
SUMMARY:Gala Bénéfice Kickboxing - UKF4
DESCRIPTION:
URL:https://iska-quebec.com/event/gala-benefice-kickboxing-aisudan/
LOCATION:Espace Théâtre de Mont-Laurier\, 543 Rue du Pont\, Mont-Laurier\, Québec\, J9L 0L4\, Canada
CATEGORIES:Amateur,K1,Karaté,Kickboxing,Low kick
ATTACH;FMTTYPE=image/jpeg:https://iska-quebec.com/wp-content/uploads/2023/12/laurier.jpg
ORGANIZER;CN="Ren%C3%A9 Gratton":MAILTO:urbain007@yahoo.ca
END:VEVENT
END:VCALENDAR