BEGIN:VCALENDAR
VERSION:2.0
PRODID:-//ISKA QUÉBEC - Association Sportive Internationale de Kickboxing et Karaté - ECPv6.15.20//NONSGML v1.0//EN
CALSCALE:GREGORIAN
METHOD:PUBLISH
X-ORIGINAL-URL:https://iska-quebec.com
X-WR-CALDESC:Événements pour ISKA QUÉBEC - Association Sportive Internationale de Kickboxing et Karaté
REFRESH-INTERVAL;VALUE=DURATION:PT1H
X-Robots-Tag:noindex
X-PUBLISHED-TTL:PT1H
BEGIN:VTIMEZONE
TZID:America/Toronto
BEGIN:DAYLIGHT
TZOFFSETFROM:-0500
TZOFFSETTO:-0400
TZNAME:EDT
DTSTART:20220313T070000
END:DAYLIGHT
BEGIN:STANDARD
TZOFFSETFROM:-0400
TZOFFSETTO:-0500
TZNAME:EST
DTSTART:20221106T060000
END:STANDARD
BEGIN:DAYLIGHT
TZOFFSETFROM:-0500
TZOFFSETTO:-0400
TZNAME:EDT
DTSTART:20230312T070000
END:DAYLIGHT
BEGIN:STANDARD
TZOFFSETFROM:-0400
TZOFFSETTO:-0500
TZNAME:EST
DTSTART:20231105T060000
END:STANDARD
BEGIN:DAYLIGHT
TZOFFSETFROM:-0500
TZOFFSETTO:-0400
TZNAME:EDT
DTSTART:20240310T070000
END:DAYLIGHT
BEGIN:STANDARD
TZOFFSETFROM:-0400
TZOFFSETTO:-0500
TZNAME:EST
DTSTART:20241103T060000
END:STANDARD
BEGIN:DAYLIGHT
TZOFFSETFROM:-0500
TZOFFSETTO:-0400
TZNAME:EDT
DTSTART:20250309T070000
END:DAYLIGHT
BEGIN:STANDARD
TZOFFSETFROM:-0400
TZOFFSETTO:-0500
TZNAME:EST
DTSTART:20251102T060000
END:STANDARD
BEGIN:DAYLIGHT
TZOFFSETFROM:-0500
TZOFFSETTO:-0400
TZNAME:EDT
DTSTART:20260308T070000
END:DAYLIGHT
BEGIN:STANDARD
TZOFFSETFROM:-0400
TZOFFSETTO:-0500
TZNAME:EST
DTSTART:20261101T060000
END:STANDARD
BEGIN:DAYLIGHT
TZOFFSETFROM:-0500
TZOFFSETTO:-0400
TZNAME:EDT
DTSTART:20270314T070000
END:DAYLIGHT
BEGIN:STANDARD
TZOFFSETFROM:-0400
TZOFFSETTO:-0500
TZNAME:EST
DTSTART:20271107T060000
END:STANDARD
END:VTIMEZONE
BEGIN:VEVENT
DTSTART;TZID=America/Toronto:20260320T190000
DTEND;TZID=America/Toronto:20260320T230000
DTSTAMP:20260420T130006
CREATED:20250724T022152Z
LAST-MODIFIED:20260311T050815Z
UID:10000051-1774033200-1774047600@iska-quebec.com
SUMMARY:Gala Bénéfice de Kickboxing – UKF6
DESCRIPTION:GALA BÉNÉFICE DE KICKBOXING – MONT-LAURIER6e édition – le grand retour ! \n\n\n\nLe 20 mars 2026 à 19 h 30\, préparez-vous à une soirée électrisante à l’Espace-Théâtre de Mont-Laurier. \n\n\n\nGala bénéficeCombats spectaculaires et intensité garantie \n\n\n\nPrésenté par Centre du camion Western Star – Freightliner \n\n\n\nPlaces limitées – réservez rapidement\, les billets partent vite !Billets disponibles dès maintenant\, exclusivement en ligne \n\n\n\nTarifs• 60 $ / adulte• 30 $ / moins de 18 ans \n\n\n\nUn événement incontournable à Mont-Laurier
URL:https://iska-quebec.com/event/gala-benefice-de-kickboxing-ukf6/
LOCATION:Espace Théâtre de Mont-Laurier\, 543 Rue du Pont\, Mont-Laurier\, Québec\, J9L 0L4\, Canada
CATEGORIES:Amateur,Exhibition,K1,Kickboxing,Low kick
ATTACH;FMTTYPE=image/jpeg:https://iska-quebec.com/wp-content/uploads/2025/07/633045859_122150841566733268_6802181534953768393_n.jpg
ORGANIZER;CN="Ren%C3%A9 Gratton":MAILTO:urbain007@yahoo.ca
END:VEVENT
BEGIN:VEVENT
DTSTART;TZID=America/Toronto:20260228T190000
DTEND;TZID=America/Toronto:20260228T230000
DTSTAMP:20260420T130006
CREATED:20250910T031201Z
LAST-MODIFIED:20251231T195354Z
UID:10000057-1772305200-1772319600@iska-quebec.com
SUMMARY:FLC – Fighter League Championship
DESCRIPTION:
URL:https://iska-quebec.com/event/flc-fighter-league-championship-2/
LOCATION:Nordik Fight Club\, 909 boulevard Charest Ouest\, Québec\, Québec\, G1N 2C9\, Canada
CATEGORIES:Amateur,Championnat,Exhibition,K1,Kickboxing,Low kick,MMA
ATTACH;FMTTYPE=image/jpeg:https://iska-quebec.com/wp-content/uploads/2025/09/608705968_1304597481704423_7083788486148139203_n.jpg
END:VEVENT
BEGIN:VEVENT
DTSTART;TZID=America/Toronto:20251011T190000
DTEND;TZID=America/Toronto:20251011T230000
DTSTAMP:20260420T130006
CREATED:20250724T021935Z
LAST-MODIFIED:20250918T021736Z
UID:10000049-1760209200-1760223600@iska-quebec.com
SUMMARY:ICEMAN KICKBOXING
DESCRIPTION:Événement incontournable : un évènement de kickboxing à couper le souffle! \n\n\n\nISKA Canada est honorée de sanctionner ce rendez-vous exceptionnel\, réunissant intensité et talent. \n\n\n\nBillets disponibles dès maintenant auprès du promoteur Jean-Yves Thériault. \n\n\n\nAttention\, les places sont limitées et partent rapidement — assurez-vous de réserver sans tarder!
URL:https://iska-quebec.com/event/iceman-kickboxing-2/
LOCATION:Centre Communautaire Père Arthur Guertin\, 16 rue Bériault\, Gatineau\, Québec\, J8X 1A3\, Canada
CATEGORIES:Amateur,Exhibition,Kickboxing
ATTACH;FMTTYPE=image/jpeg:https://iska-quebec.com/wp-content/uploads/2025/07/iceman.jpg
END:VEVENT
BEGIN:VEVENT
DTSTART;TZID=America/Toronto:20250920T190000
DTEND;TZID=America/Toronto:20250920T230000
DTSTAMP:20260420T130006
CREATED:20250724T021644Z
LAST-MODIFIED:20250918T124520Z
UID:10000048-1758394800-1758409200@iska-quebec.com
SUMMARY:FLC – Fighter League Championship
DESCRIPTION:FLC Fighter League Championship – 20 septembre 2025 \n\n\n\nISKA Canada est fier de sanctionner officiellement cet événement d’envergure qui réunira des combattants de haut niveau pour une soirée de pur spectacle et d’émotions fortes.  \n\n\n\nRendez-vous le 20 septembre 2025 pour vibrer au rythme de l’action\, dans un gala où performance\, intensité et esprit sportif seront au rendez-vous. \n\n\n\nUn événement à ne pas manquer!
URL:https://iska-quebec.com/event/flc-fighter-league-championship/
LOCATION:Nordik Fight Club\, 909 boulevard Charest Ouest\, Québec\, Québec\, G1N 2C9\, Canada
CATEGORIES:Amateur,Championnat,Exhibition,K1,Kickboxing,Low kick,MMA
ATTACH;FMTTYPE=image/jpeg:https://iska-quebec.com/wp-content/uploads/2025/07/524313990_1168391255325047_6462364349285545863_n.jpg
END:VEVENT
BEGIN:VEVENT
DTSTART;TZID=America/Toronto:20250628T190000
DTEND;TZID=America/Toronto:20250628T230000
DTSTAMP:20260420T130006
CREATED:20250329T152903Z
LAST-MODIFIED:20250531T141112Z
UID:10000038-1751137200-1751151600@iska-quebec.com
SUMMARY:FLC - FIGHTER LEAGUE CHAMPIONSHIP
DESCRIPTION:Le 28 juin 2025\, rendez-vous à Québec pour le gala de la FLC – FIGHTER LEAGUE CHAMPIONSHIP un événement à ne pas manquer! \n\n\n\nVenez assister à des combats spectaculaires réunissant les meilleurs talents du Québec. Préparez-vous pour une soirée riche en action et en émotions fortes! \n\n\n\nRéservez vos billets dès maintenant en ligne! \n\n\n\nLes billets et le PPV sont déjà en vente ! Réservez vos places dès aujourd’hui et préparez-vous à vivre une soirée mémorable au cœur de l’action ! \n\n\n\n\nhttps://lepointdevente.com/actionviesportive
URL:https://iska-quebec.com/event/fighter-8/
LOCATION:Québec
CATEGORIES:Amateur,Exhibition,K1,Kickboxing
ATTACH;FMTTYPE=image/jpeg:https://iska-quebec.com/wp-content/uploads/2025/03/498924240_1114829784014528_1248426734966206649_n.jpg
ORGANIZER;CN="Nordik Fight Club - %C3%89volution Jiu Jitsu Qu%C3%A9bec":MAILTO:yohanberube.yb@gmail.com
END:VEVENT
BEGIN:VEVENT
DTSTART;TZID=America/Toronto:20250524T190000
DTEND;TZID=America/Toronto:20250524T230000
DTSTAMP:20260420T130006
CREATED:20250216T134759Z
LAST-MODIFIED:20250520T001425Z
UID:10000025-1748113200-1748127600@iska-quebec.com
SUMMARY:Balistik #4 - Rising Heat
DESCRIPTION:🔥 Kino Bwanga Alphonso 💪 — le Roi du K1 québécois 👑 — fraîchement sacré champion Silvertooth par TKO en mars dernier 🏆\, vise maintenant une nouvelle conquête : la ceinture Balistik des Super Middleweight. \n\n\n\nFace à lui : Samuel “Faya Boots” Bunche 🔥\, en pleine ascension depuis son retour fracassant lors de Balistik #2 – Road to the Garden. \n\n\n\nCette victoire lui a ouvert les portes du Madison Square Garden 🗽\, où il a signé un KO spectaculaire en un temps record ⏱️! \n\n\n\nIl a récidivé à Québec dans la promotion Fighter avec un autre KO éclair ⚡\, puis créé la surprise à l’Olympia en envoyant le redoutable Dan Zhou au tapis à deux reprises 😲! \n\n\n\n🚀 Bunche peut-il vaincre Kino Alphonso ? Un choc David contre Goliath que vous ne voulez pas manquer! 🍿
URL:https://iska-quebec.com/event/balistik-4/
LOCATION:Dek Anjou\, 9001 Bd Parkway\, Anjou\, Québec\, H1J 1N4\, Canada
CATEGORIES:Amateur,Championnat,Exhibition,K1,Kickboxing,Low kick
ATTACH;FMTTYPE=image/jpeg:https://iska-quebec.com/wp-content/uploads/2025/02/493091501_122212135622149154_2322276086990722363_n.jpg
ORGANIZER;CN="Eric Alphonso":MAILTO:balistiklimbs@gmail.com
END:VEVENT
BEGIN:VEVENT
DTSTART;TZID=America/Toronto:20240928T190000
DTEND;TZID=America/Toronto:20240928T230000
DTSTAMP:20260420T130006
CREATED:20240728T145836Z
LAST-MODIFIED:20250209T002142Z
UID:10000024-1727550000-1727564400@iska-quebec.com
SUMMARY:Fighter 6
DESCRIPTION:
URL:https://iska-quebec.com/event/fighter-6/
LOCATION:Nordik Fight Club\, 909 boulevard Charest Ouest\, Québec\, Québec\, G1N 2C9\, Canada
CATEGORIES:Amateur,Exhibition,K1,Kickboxing,Low kick,MMA
ATTACH;FMTTYPE=image/jpeg:https://iska-quebec.com/wp-content/uploads/2024/07/455137788_898465162317659_4138728845622998115_n.jpg
ORGANIZER;CN="Nordik Fight Club - %C3%89volution Jiu Jitsu Qu%C3%A9bec":MAILTO:yohanberube.yb@gmail.com
END:VEVENT
BEGIN:VEVENT
DTSTART;TZID=America/Toronto:20240629T193000
DTEND;TZID=America/Toronto:20240629T230000
DTSTAMP:20260420T130006
CREATED:20240406T125520Z
LAST-MODIFIED:20250209T002309Z
UID:10000020-1719689400-1719702000@iska-quebec.com
SUMMARY:Fighter 5
DESCRIPTION:
URL:https://iska-quebec.com/event/fighter-5/
LOCATION:Nordik Fight Club\, 909 boulevard Charest Ouest\, Québec\, Québec\, G1N 2C9\, Canada
CATEGORIES:Amateur,Exhibition,K1,Kickboxing,MMA
ATTACH;FMTTYPE=image/jpeg:https://iska-quebec.com/wp-content/uploads/2024/04/434561092_814278630736313_8107339351382860616_n.jpg
ORGANIZER;CN="Nordik Fight Club - %C3%89volution Jiu Jitsu Qu%C3%A9bec":MAILTO:yohanberube.yb@gmail.com
END:VEVENT
BEGIN:VEVENT
DTSTART;TZID=America/Toronto:20240504T190000
DTEND;TZID=America/Toronto:20240504T230000
DTSTAMP:20260420T130006
CREATED:20231210T163231Z
LAST-MODIFIED:20240116T040139Z
UID:10000013-1714849200-1714863600@iska-quebec.com
SUMMARY:Gladiateurs du Nord 2
DESCRIPTION:
URL:https://iska-quebec.com/event/gladiateurs-du-nord-2/
LOCATION:Québec
CATEGORIES:Amateur,Boxe,Championnat,Exhibition,K1,Karaté,Kickboxing,Low kick
ATTACH;FMTTYPE=image/jpeg:https://iska-quebec.com/wp-content/uploads/2023/12/414499288_847841684019203_3653760870514363150_n.jpg
ORGANIZER;CN="Ralph D. Jean-Pierre":MAILTO:Impactkb.bjj@gmail.com
END:VEVENT
BEGIN:VEVENT
DTSTART;TZID=America/Toronto:20240330T193000
DTEND;TZID=America/Toronto:20240330T230000
DTSTAMP:20260420T130006
CREATED:20231210T174510Z
LAST-MODIFIED:20240323T131504Z
UID:10000017-1711827000-1711839600@iska-quebec.com
SUMMARY:Fight Night
DESCRIPTION:
URL:https://iska-quebec.com/event/fight-night/
LOCATION:Québec
CATEGORIES:Amateur,Boxe,Exhibition,K1,Kickboxing
ATTACH;FMTTYPE=image/jpeg:https://iska-quebec.com/wp-content/uploads/2023/12/431825334_932194715574128_158242270412152242_n.jpg
END:VEVENT
BEGIN:VEVENT
DTSTART;TZID=America/Toronto:20240330T190000
DTEND;TZID=America/Toronto:20240330T230000
DTSTAMP:20260420T130006
CREATED:20240318T184123Z
LAST-MODIFIED:20250209T002352Z
UID:10000018-1711825200-1711839600@iska-quebec.com
SUMMARY:Fighter 4
DESCRIPTION:
URL:https://iska-quebec.com/event/fighter-4/
LOCATION:Nordik Fight Club\, 909 boulevard Charest Ouest\, Québec\, Québec\, G1N 2C9\, Canada
CATEGORIES:Amateur,Exhibition,K1,Kickboxing
ATTACH;FMTTYPE=image/jpeg:https://iska-quebec.com/wp-content/uploads/2024/03/fighter.jpg
END:VEVENT
BEGIN:VEVENT
DTSTART;TZID=America/Toronto:20231209T193000
DTEND;TZID=America/Toronto:20231209T230000
DTSTAMP:20260420T130006
CREATED:20231107T203217Z
LAST-MODIFIED:20250209T002437Z
UID:10000011-1702150200-1702162800@iska-quebec.com
SUMMARY:Fighter 3
DESCRIPTION: 
URL:https://iska-quebec.com/event/fighter-3/
LOCATION:Nordik Fight Club\, 909 boulevard Charest Ouest\, Québec\, Québec\, G1N 2C9\, Canada
CATEGORIES:Amateur,Championnat,Exhibition,K1,Kickboxing,Low kick,MMA
ATTACH;FMTTYPE=image/jpeg:https://iska-quebec.com/wp-content/uploads/2023/11/image_6483441-1.jpg
ORGANIZER;CN="Nordik Fight Club - %C3%89volution Jiu Jitsu Qu%C3%A9bec":MAILTO:yohanberube.yb@gmail.com
END:VEVENT
BEGIN:VEVENT
DTSTART;TZID=America/Toronto:20231014T190000
DTEND;TZID=America/Toronto:20231014T230000
DTSTAMP:20260420T130006
CREATED:20230917T143140Z
LAST-MODIFIED:20231008T213436Z
UID:10000001-1697310000-1697324400@iska-quebec.com
SUMMARY:Gladiateurs du Nord
DESCRIPTION:
URL:https://iska-quebec.com/event/gladiateurs-du-nord/
LOCATION:Théâtre Meglab\, 550\, 4th Avenue\, Malartic\, Québec\, J0Y 1Z0\, Canada
CATEGORIES:Amateur,Exhibition,K1,Kickboxing,Low kick,Muay thaï
ATTACH;FMTTYPE=image/jpeg:https://iska-quebec.com/wp-content/uploads/2023/09/gladiateur.jpg
ORGANIZER;CN="Ralph D. Jean-Pierre":MAILTO:Impactkb.bjj@gmail.com
END:VEVENT
END:VCALENDAR