BEGIN:VCALENDAR
VERSION:2.0
PRODID:-//ISKA QUÉBEC - Association Sportive Internationale de Kickboxing et Karaté - ECPv6.15.20//NONSGML v1.0//EN
CALSCALE:GREGORIAN
METHOD:PUBLISH
X-ORIGINAL-URL:https://iska-quebec.com
X-WR-CALDESC:Événements pour ISKA QUÉBEC - Association Sportive Internationale de Kickboxing et Karaté
REFRESH-INTERVAL;VALUE=DURATION:PT1H
X-Robots-Tag:noindex
X-PUBLISHED-TTL:PT1H
BEGIN:VTIMEZONE
TZID:America/Toronto
BEGIN:DAYLIGHT
TZOFFSETFROM:-0500
TZOFFSETTO:-0400
TZNAME:EDT
DTSTART:20240310T070000
END:DAYLIGHT
BEGIN:STANDARD
TZOFFSETFROM:-0400
TZOFFSETTO:-0500
TZNAME:EST
DTSTART:20241103T060000
END:STANDARD
BEGIN:DAYLIGHT
TZOFFSETFROM:-0500
TZOFFSETTO:-0400
TZNAME:EDT
DTSTART:20250309T070000
END:DAYLIGHT
BEGIN:STANDARD
TZOFFSETFROM:-0400
TZOFFSETTO:-0500
TZNAME:EST
DTSTART:20251102T060000
END:STANDARD
BEGIN:DAYLIGHT
TZOFFSETFROM:-0500
TZOFFSETTO:-0400
TZNAME:EDT
DTSTART:20260308T070000
END:DAYLIGHT
BEGIN:STANDARD
TZOFFSETFROM:-0400
TZOFFSETTO:-0500
TZNAME:EST
DTSTART:20261101T060000
END:STANDARD
END:VTIMEZONE
BEGIN:VEVENT
DTSTART;TZID=America/Toronto:20250406T030000
DTEND;TZID=America/Toronto:20250406T140000
DTSTAMP:20260421T131517
CREATED:20250327T023145Z
LAST-MODIFIED:20250327T023325Z
UID:10000044-1743908400-1743948000@iska-quebec.com
SUMMARY:ISKA Tatami Sports - English Championships
DESCRIPTION:
URL:https://iska-quebec.com/event/iska-tatami-sports-english-championships/
LOCATION:QC
CATEGORIES:Championnat
ATTACH;FMTTYPE=image/jpeg:https://iska-quebec.com/wp-content/uploads/2025/03/480535845_122182274204300645_4688030368800466436_n.jpg
END:VEVENT
BEGIN:VEVENT
DTSTART;TZID=America/Toronto:20250409T080000
DTEND;TZID=America/Toronto:20250412T230000
DTSTAMP:20260421T131517
CREATED:20250202T032001Z
LAST-MODIFIED:20250305T213256Z
UID:10000041-1744185600-1744498800@iska-quebec.com
SUMMARY:ISKA AMA EUROPEAN CHAMPIONSHIP
DESCRIPTION:
URL:https://iska-quebec.com/event/iska-ama-european-championship/
LOCATION:QC
CATEGORIES:Amateur,Championnat,K1,Kickboxing
ATTACH;FMTTYPE=image/jpeg:https://iska-quebec.com/wp-content/uploads/2025/02/470181486_1153053646823578_8498862690681713860_n.jpg
END:VEVENT
END:VCALENDAR