BEGIN:VCALENDAR
VERSION:2.0
PRODID:-//ISKA QUÉBEC - Association Sportive Internationale de Kickboxing et Karaté - ECPv6.15.20//NONSGML v1.0//EN
CALSCALE:GREGORIAN
METHOD:PUBLISH
X-ORIGINAL-URL:https://iska-quebec.com
X-WR-CALDESC:Événements pour ISKA QUÉBEC - Association Sportive Internationale de Kickboxing et Karaté
REFRESH-INTERVAL;VALUE=DURATION:PT1H
X-Robots-Tag:noindex
X-PUBLISHED-TTL:PT1H
BEGIN:VTIMEZONE
TZID:America/Toronto
BEGIN:DAYLIGHT
TZOFFSETFROM:-0500
TZOFFSETTO:-0400
TZNAME:EDT
DTSTART:20240310T070000
END:DAYLIGHT
BEGIN:STANDARD
TZOFFSETFROM:-0400
TZOFFSETTO:-0500
TZNAME:EST
DTSTART:20241103T060000
END:STANDARD
BEGIN:DAYLIGHT
TZOFFSETFROM:-0500
TZOFFSETTO:-0400
TZNAME:EDT
DTSTART:20250309T070000
END:DAYLIGHT
BEGIN:STANDARD
TZOFFSETFROM:-0400
TZOFFSETTO:-0500
TZNAME:EST
DTSTART:20251102T060000
END:STANDARD
BEGIN:DAYLIGHT
TZOFFSETFROM:-0500
TZOFFSETTO:-0400
TZNAME:EDT
DTSTART:20260308T070000
END:DAYLIGHT
BEGIN:STANDARD
TZOFFSETFROM:-0400
TZOFFSETTO:-0500
TZNAME:EST
DTSTART:20261101T060000
END:STANDARD
END:VTIMEZONE
BEGIN:VEVENT
DTSTART;TZID=America/Toronto:20251101T080000
DTEND;TZID=America/Toronto:20251102T170000
DTSTAMP:20260421T014740
CREATED:20250826T153526Z
LAST-MODIFIED:20251024T041403Z
UID:10000056-1761984000-1762102800@iska-quebec.com
SUMMARY:COURS POUR OFFICIELS MMA
DESCRIPTION:Avec l’entrée en vigueur de la nouvelle législation sur les sports de combat en Ontario\, voici l’occasion de mettre tous les officiels de MMA de l’Ontario au courant. \n\n\n\nLe sergent-chef de MMA\, Todd Anderson\, nous enseignera et nous informera sur les nouvelles règles unifiées de MMA. \n\n\n\nTodd Anderson est un officiel et entraîneur de MMA très respecté auprès de l’Association des commissions de boxe (ABC) et de l’Association internationale de karaté sportif (ISKA). Fort de 15 ans d’expérience en MMA professionnel au plus haut niveau\, notamment à l’UFC\, au Bellator et en tant que ceinture noire de jiu-jitsu brésilien\, Todd apporte une expertise technique de premier plan à son arbitrage et à son entraînement. Outre son travail en cage\, Todd a joué un rôle clé dans la surveillance réglementaire en tant qu’ancien directeur du MMA pour la Commission athlétique de l’État de New York (NYSAC) et membre de l’équipe d’évaluation des compétences des combattants de la Commission athlétique de l’Ontario (OAC). Son dévouement pour les sports de combat va au-delà de l’arbitrage ; il s’engage à assurer la sécurité des athlètes et à maintenir les normes d’intégrité les plus élevées dans ce sport.
URL:https://iska-quebec.com/event/cours-pour-officiels-mma/
LOCATION:Fight Factory\, 10 Camelot Drive\, Ottawa\, On\, K2G4N4\, Canada
CATEGORIES:Séminaire
ATTACH;FMTTYPE=image/jpeg:https://iska-quebec.com/wp-content/uploads/2025/08/MMA1.jpg
ORGANIZER;CN="Todd Anderson":MAILTO:mmaofficialstraining@gmail.com
END:VEVENT
END:VCALENDAR