BEGIN:VCALENDAR
VERSION:2.0
PRODID:-//ISKA QUÉBEC - Association Sportive Internationale de Kickboxing et Karaté - ECPv6.15.20//NONSGML v1.0//EN
CALSCALE:GREGORIAN
METHOD:PUBLISH
X-WR-CALNAME:ISKA QUÉBEC - Association Sportive Internationale de Kickboxing et Karaté
X-ORIGINAL-URL:https://iska-quebec.com
X-WR-CALDESC:Événements pour ISKA QUÉBEC - Association Sportive Internationale de Kickboxing et Karaté
REFRESH-INTERVAL;VALUE=DURATION:PT1H
X-Robots-Tag:noindex
X-PUBLISHED-TTL:PT1H
BEGIN:VTIMEZONE
TZID:America/Toronto
BEGIN:DAYLIGHT
TZOFFSETFROM:-0500
TZOFFSETTO:-0400
TZNAME:EDT
DTSTART:20230312T070000
END:DAYLIGHT
BEGIN:STANDARD
TZOFFSETFROM:-0400
TZOFFSETTO:-0500
TZNAME:EST
DTSTART:20231105T060000
END:STANDARD
BEGIN:DAYLIGHT
TZOFFSETFROM:-0500
TZOFFSETTO:-0400
TZNAME:EDT
DTSTART:20240310T070000
END:DAYLIGHT
BEGIN:STANDARD
TZOFFSETFROM:-0400
TZOFFSETTO:-0500
TZNAME:EST
DTSTART:20241103T060000
END:STANDARD
BEGIN:DAYLIGHT
TZOFFSETFROM:-0500
TZOFFSETTO:-0400
TZNAME:EDT
DTSTART:20250309T070000
END:DAYLIGHT
BEGIN:STANDARD
TZOFFSETFROM:-0400
TZOFFSETTO:-0500
TZNAME:EST
DTSTART:20251102T060000
END:STANDARD
END:VTIMEZONE
BEGIN:VEVENT
DTSTART;VALUE=DATE:20241023
DTEND;VALUE=DATE:20241028
DTSTAMP:20260421T222030
CREATED:20231020T151726Z
LAST-MODIFIED:20250305T213419Z
UID:10000008-1729641600-1730073599@iska-quebec.com
SUMMARY:ISKA AMA World Championships 2024
DESCRIPTION: 
URL:https://iska-quebec.com/event/iska-world-championships-2024/
LOCATION:Hallmann Dome\, Vienne\, Australia
CATEGORIES:Amateur,Boxe,Championnat,Kickboxing,Low kick
ATTACH;FMTTYPE=image/jpeg:https://iska-quebec.com/wp-content/uploads/2023/10/worldiska.jpg
END:VEVENT
BEGIN:VEVENT
DTSTART;TZID=America/Toronto:20241026T190000
DTEND;TZID=America/Toronto:20241026T230000
DTSTAMP:20260421T222030
CREATED:20240728T152309Z
LAST-MODIFIED:20241023T014823Z
UID:10000027-1729969200-1729983600@iska-quebec.com
SUMMARY:Gladiateurs du nord III
DESCRIPTION:
URL:https://iska-quebec.com/event/gladiateur-du-nord-3/
LOCATION:Polyvalente Le Carrefour\, 125 rue Self\, Val-d'Or\, Québec\, J9P 3N2\, Canada
CATEGORIES:Amateur,Kickboxing,Low kick
ATTACH;FMTTYPE=image/jpeg:https://iska-quebec.com/wp-content/uploads/2024/07/gladiateurs3-1.jpg
ORGANIZER;CN="Ralph D. Jean-Pierre":MAILTO:Impactkb.bjj@gmail.com
END:VEVENT
END:VCALENDAR